BEGIN:VCALENDAR
VERSION:2.0
PRODID:-//MACSC - ECPv5.16.1//NONSGML v1.0//EN
CALSCALE:GREGORIAN
METHOD:PUBLISH
X-ORIGINAL-URL:https://www.mechanicvilleacsc.org
X-WR-CALDESC:Events for MACSC
REFRESH-INTERVAL;VALUE=DURATION:PT1H
X-Robots-Tag:noindex
X-PUBLISHED-TTL:PT1H
BEGIN:VTIMEZONE
TZID:America/New_York
BEGIN:DAYLIGHT
TZOFFSETFROM:-0500
TZOFFSETTO:-0400
TZNAME:EDT
DTSTART:20220313T070000
END:DAYLIGHT
BEGIN:STANDARD
TZOFFSETFROM:-0400
TZOFFSETTO:-0500
TZNAME:EST
DTSTART:20221106T060000
END:STANDARD
END:VTIMEZONE
BEGIN:VEVENT
DTSTART;TZID=America/New_York:20221102T100000
DTEND;TZID=America/New_York:20221102T100000
DTSTAMP:20260422T022113
CREATED:20211227T191521Z
LAST-MODIFIED:20221031T192311Z
UID:5455-1667383200-1667383200@www.mechanicvilleacsc.org
SUMMARY:Adult Coloring or Puzzles
DESCRIPTION:Adult Coloring or Puzzles will be held at the Mechanicville Senior Center (178 N Main St\, Mechanicville\, NY 12118) weekly on Wednesdays at 10:00 a.m. in the Riverside Room \nPlease contact MaryAlice Hollenbeck ext 1011 for additional details or to sign-up
URL:https://www.mechanicvilleacsc.org/event/adult-coloring-2022-11-02/
LOCATION:Mechanicville Senior Center\, 178 N Main St\, Mechanicville\, NY\, 12118\, United States
CATEGORIES:Seniors
ORGANIZER;CN="Karin%20Drosdick":MAILTO:mhollenbeck@mechanicvilleacsc.org
END:VEVENT
BEGIN:VEVENT
DTSTART;TZID=America/New_York:20221109T100000
DTEND;TZID=America/New_York:20221109T100000
DTSTAMP:20260422T022113
CREATED:20221031T192343Z
LAST-MODIFIED:20221031T192343Z
UID:8904-1667988000-1667988000@www.mechanicvilleacsc.org
SUMMARY:Adult Coloring or Puzzles
DESCRIPTION:Adult Coloring or Puzzles will be held at the Mechanicville Senior Center (178 N Main St\, Mechanicville\, NY 12118) weekly on Wednesdays at 10:00 a.m. in the Riverside Room \nPlease contact MaryAlice Hollenbeck ext 1011 for additional details or to sign-up
URL:https://www.mechanicvilleacsc.org/event/adult-coloring-or-puzzles/
LOCATION:Mechanicville Senior Center\, 178 N Main St\, Mechanicville\, NY\, 12118\, United States
CATEGORIES:Seniors
ORGANIZER;CN="Karin%20Drosdick":MAILTO:mhollenbeck@mechanicvilleacsc.org
END:VEVENT
BEGIN:VEVENT
DTSTART;TZID=America/New_York:20221116T100000
DTEND;TZID=America/New_York:20221116T100000
DTSTAMP:20260422T022113
CREATED:20221031T192429Z
LAST-MODIFIED:20221031T192429Z
UID:8906-1668592800-1668592800@www.mechanicvilleacsc.org
SUMMARY:Adult Coloring or Puzzles
DESCRIPTION:Adult Coloring or Puzzles will be held at the Mechanicville Senior Center (178 N Main St\, Mechanicville\, NY 12118) weekly on Wednesdays at 10:00 a.m. in the Riverside Room \nPlease contact MaryAlice Hollenbeck ext 1011 for additional details or to sign-up
URL:https://www.mechanicvilleacsc.org/event/adult-coloring-or-puzzles-2/
LOCATION:Mechanicville Senior Center\, 178 N Main St\, Mechanicville\, NY\, 12118\, United States
CATEGORIES:Seniors
ORGANIZER;CN="Karin%20Drosdick":MAILTO:mhollenbeck@mechanicvilleacsc.org
END:VEVENT
BEGIN:VEVENT
DTSTART;TZID=America/New_York:20221123T100000
DTEND;TZID=America/New_York:20221123T100000
DTSTAMP:20260422T022113
CREATED:20221031T192503Z
LAST-MODIFIED:20221031T192503Z
UID:8908-1669197600-1669197600@www.mechanicvilleacsc.org
SUMMARY:Adult Coloring or Puzzles
DESCRIPTION:Adult Coloring or Puzzles will be held at the Mechanicville Senior Center (178 N Main St\, Mechanicville\, NY 12118) weekly on Wednesdays at 10:00 a.m. in the Riverside Room \nPlease contact MaryAlice Hollenbeck ext 1011 for additional details or to sign-up
URL:https://www.mechanicvilleacsc.org/event/adult-coloring-or-puzzles-3/
LOCATION:Mechanicville Senior Center\, 178 N Main St\, Mechanicville\, NY\, 12118\, United States
CATEGORIES:Seniors
ORGANIZER;CN="Karin%20Drosdick":MAILTO:mhollenbeck@mechanicvilleacsc.org
END:VEVENT
BEGIN:VEVENT
DTSTART;TZID=America/New_York:20221130T100000
DTEND;TZID=America/New_York:20221130T100000
DTSTAMP:20260422T022113
CREATED:20221031T192540Z
LAST-MODIFIED:20221031T192540Z
UID:8910-1669802400-1669802400@www.mechanicvilleacsc.org
SUMMARY:Adult Coloring or Puzzles
DESCRIPTION:Adult Coloring or Puzzles will be held at the Mechanicville Senior Center (178 N Main St\, Mechanicville\, NY 12118) weekly on Wednesdays at 10:00 a.m. in the Riverside Room \nPlease contact MaryAlice Hollenbeck ext 1011 for additional details or to sign-up
URL:https://www.mechanicvilleacsc.org/event/adult-coloring-or-puzzles-4/
LOCATION:Mechanicville Senior Center\, 178 N Main St\, Mechanicville\, NY\, 12118\, United States
CATEGORIES:Seniors
ORGANIZER;CN="Karin%20Drosdick":MAILTO:mhollenbeck@mechanicvilleacsc.org
END:VEVENT
END:VCALENDAR