BEGIN:VCALENDAR
VERSION:2.0
PRODID:-//MACSC - ECPv5.16.1//NONSGML v1.0//EN
CALSCALE:GREGORIAN
METHOD:PUBLISH
X-ORIGINAL-URL:https://www.mechanicvilleacsc.org
X-WR-CALDESC:Events for MACSC
REFRESH-INTERVAL;VALUE=DURATION:PT1H
X-Robots-Tag:noindex
X-PUBLISHED-TTL:PT1H
BEGIN:VTIMEZONE
TZID:America/New_York
BEGIN:DAYLIGHT
TZOFFSETFROM:-0500
TZOFFSETTO:-0400
TZNAME:EDT
DTSTART:20230312T070000
END:DAYLIGHT
BEGIN:STANDARD
TZOFFSETFROM:-0400
TZOFFSETTO:-0500
TZNAME:EST
DTSTART:20231105T060000
END:STANDARD
END:VTIMEZONE
BEGIN:VEVENT
DTSTART;TZID=America/New_York:20230201T100000
DTEND;TZID=America/New_York:20230201T100000
DTSTAMP:20260421T223430
CREATED:20230125T144912Z
LAST-MODIFIED:20230125T144912Z
UID:9666-1675245600-1675245600@www.mechanicvilleacsc.org
SUMMARY:Adult Coloring or Puzzles
DESCRIPTION:Adult Coloring or Puzzles will be held at the Mechanicville Senior Center (178 N Main St\, Mechanicville\, NY 12118) weekly on Wednesdays at 10:00 a.m. in the Hudson Room \nPlease contact MaryAlice Hollenbeck ext 1011 for additional details or to sign-up
URL:https://www.mechanicvilleacsc.org/event/adult-coloring-or-puzzles-13/
LOCATION:Mechanicville Senior Center\, 178 N Main St\, Mechanicville\, NY\, 12118\, United States
CATEGORIES:Seniors
ORGANIZER;CN="Karin%20Drosdick":MAILTO:mhollenbeck@mechanicvilleacsc.org
END:VEVENT
END:VCALENDAR